BEGIN:VCALENDAR
VERSION:2.0
PRODID:-//Tukios.com/
BEGIN:VEVENT
UID:eba33699-8375-428a-9da3-dde28aba280c@www.latinacares.com
DTSTAMP:20260421T185926Z
DTSTART:20260504T220000Z
DTEND:20260505T020000Z
SUMMARY:Velacion Publica
DESCRIPTION:
URL:https://www.latinacares.com/obituaries/alan-galves-quintanilla
LOCATION: 3020 Federal Blvd  Denver CO 80211
GEO:39.7606607;-105.0248303
END:VEVENT
END:VCALENDAR