BEGIN:VCALENDAR
VERSION:2.0
PRODID:-//Tukios.com/
BEGIN:VEVENT
UID:6fc728ab-fde8-4a65-be4b-91f064c8e6fe@www.latinacares.com
DTSTAMP:20260421T190233Z
DTSTART:20260505T000000Z
DTEND:20260505T010000Z
SUMMARY:Servicio
DESCRIPTION:
URL:https://www.latinacares.com/obituaries/alan-galves-quintanilla
LOCATION: 3020 Federal Blvd  Denver CO 80211
GEO:39.7606607;-105.0248303
END:VEVENT
END:VCALENDAR