BEGIN:VCALENDAR
VERSION:2.0
PRODID:-//Tukios.com/
BEGIN:VEVENT
UID:c67101c9-3309-4ece-a623-42f3643403de@www.latinacares.com
DTSTAMP:20260420T220603Z
DTSTART:20260426T200000Z
DTEND:20260427T000000Z
SUMMARY:Velacion
DESCRIPTION:Velacion publica en Funeraria Latina el domingo 26 de april 
	de 2PM-6PM. 3020 Federal blvd, Denver, CO 80211
URL:https://www.latinacares.com/obituaries/fausto-salguero-giron
LOCATION: 3020 Federal Blvd  Denver CO 80211
GEO:39.7606607;-105.0248303
END:VEVENT
END:VCALENDAR