BEGIN:VCALENDAR
VERSION:2.0
PRODID:-//Tukios.com/
BEGIN:VEVENT
UID:06a2f36c-015d-4aca-8e73-2e8c7eb70d06@www.latinacares.com
DTSTAMP:20260423T223018Z
DTSTART:20260507T220000Z
DTEND:20260508T020000Z
SUMMARY:Velacion
DESCRIPTION:
URL:https://www.latinacares.com/obituaries/jonathan-buendia-terrones
LOCATION: 3020 Federal Blvd  Denver CO 80211
GEO:39.7606607;-105.0248303
END:VEVENT
END:VCALENDAR