BEGIN:VCALENDAR
VERSION:2.0
PRODID:-//Tukios.com/
BEGIN:VEVENT
UID:9d03fa07-592a-4f84-8ff8-41bf5f0b0bcc@www.latinacares.com
DTSTAMP:20260423T222458Z
DTSTART:20260508T000000Z
DTEND:20260508T010000Z
SUMMARY:Servicio
DESCRIPTION:
URL:https://www.latinacares.com/obituaries/jonathan-buendia-terrones
LOCATION: 3020 Federal Blvd  Denver CO 80211
GEO:39.7606607;-105.0248303
END:VEVENT
END:VCALENDAR