BEGIN:VCALENDAR
VERSION:2.0
PRODID:-//Tukios.com/
BEGIN:VEVENT
UID:17c5b2c6-6577-49b2-9767-437a3ab7a71a@www.latinacares.com
DTSTAMP:20260423T222943Z
DTSTART:20260508T190000Z
DTEND:20260508T200000Z
SUMMARY:Entierro
DESCRIPTION:
URL:https://www.latinacares.com/obituaries/jonathan-buendia-terrones
LOCATION: 755 Ulysses St  Golden CO 80401
GEO:39.7286597;-105.1968108
END:VEVENT
END:VCALENDAR