BEGIN:VCALENDAR
VERSION:2.0
PRODID:-//Tukios.com/
BEGIN:VEVENT
UID:0eda5fd8-ee99-4b21-a409-7de37c5fa2e0@www.latinacares.com
DTSTAMP:20260423T223018Z
DTSTART:20260508T160000Z
DTEND:20260508T180000Z
SUMMARY:Ultima despedida
DESCRIPTION:
URL:https://www.latinacares.com/obituaries/jonathan-buendia-terrones
LOCATION: 3020 Federal Blvd  Denver CO 80211
GEO:39.7606607;-105.0248303
END:VEVENT
END:VCALENDAR