BEGIN:VCALENDAR
VERSION:2.0
PRODID:-//Tukios.com/
BEGIN:VEVENT
UID:e21607ec-f6a1-45d6-94e8-fc9a66d9e5b4@www.latinacares.com
DTSTAMP:20260425T002932Z
DTSTART:20260502T180000Z
DTEND:20260502T220000Z
SUMMARY:Viewing
DESCRIPTION:
URL:https://www.latinacares.com/obituaries/junias-baylon
LOCATION: 3020 Federal Blvd  Denver CO 80211
GEO:39.7606607;-105.0248303
END:VEVENT
END:VCALENDAR