BEGIN:VCALENDAR
VERSION:2.0
PRODID:-//Tukios.com/
BEGIN:VEVENT
UID:0dea2cf4-9141-48bf-af63-af08795863c1@www.latinacares.com
DTSTAMP:20260424T235213Z
DTSTART:20260429T220000Z
DTEND:20260430T020000Z
SUMMARY:Viewing
DESCRIPTION:
URL:https://www.latinacares.com/obituaries/maria-chavez-rodriguez
LOCATION: 3020 Federal Blvd  Denver CO 80211
GEO:39.7606607;-105.0248303
END:VEVENT
END:VCALENDAR