BEGIN:VCALENDAR
VERSION:2.0
PRODID:-//Tukios.com/
BEGIN:VEVENT
UID:a22a79eb-a7cb-47ed-896d-bb6c8210e05a@www.latinacares.com
DTSTAMP:20260424T235000Z
DTSTART:20260430T160000Z
DTEND:20260430T170000Z
SUMMARY:Viewing
DESCRIPTION:
URL:https://www.latinacares.com/obituaries/maria-chavez-rodriguez
LOCATION: 6690 E 72nd Ave  Commerce City CO 80022
GEO:39.8261878;-104.9100952
END:VEVENT
END:VCALENDAR