BEGIN:VCALENDAR
VERSION:2.0
PRODID:-//Tukios.com/
BEGIN:VEVENT
UID:ee3dce57-3f3b-461c-9be4-2e8ea7f688e5@www.latinacares.com
DTSTAMP:20260424T234929Z
DTSTART:20260430T170000Z
DTEND:20260430T180000Z
SUMMARY:Mass
DESCRIPTION:
URL:https://www.latinacares.com/obituaries/maria-chavez-rodriguez
LOCATION: 6690 E 72nd Ave  Commerce City CO 80022
GEO:39.8261878;-104.9100952
END:VEVENT
END:VCALENDAR