BEGIN:VCALENDAR
VERSION:2.0
PRODID:-//Tukios.com/
BEGIN:VEVENT
UID:b47dec5f-3bc7-42b8-97cd-b480a3c6bf3f@www.latinacares.com
DTSTAMP:20260424T235510Z
DTSTART:20260430T190000Z
DTEND:20260430T200000Z
SUMMARY:Graveside Service
DESCRIPTION:
URL:https://www.latinacares.com/obituaries/maria-chavez-rodriguez
LOCATION: 7777 W 29th Ave  Wheat Ridge CO 80033
GEO:39.7584549;-105.0922925
END:VEVENT
END:VCALENDAR